BEGIN:VCALENDAR
PRODID:-//AT Content Types//AT Event//EN
VERSION:2.0
METHOD:PUBLISH
BEGIN:VEVENT
DTSTAMP:20260423T110222Z
CREATED:20241107T100916Z
UID:ATEvent-4c68c619f3c84fab8f1111ac3762d262
LAST-MODIFIED:20250108T123230Z
SUMMARY:Floodgates Park Drop In Event
DTSTART:20250116T160000Z
DTEND:20250116T190000Z
DESCRIPTION:Drop in Consultation Event\nLondonderry Park
CLASS:PUBLIC
END:VEVENT
END:VCALENDAR
